BEGIN:VCALENDAR
VERSION:2.0
PRODID:-//wp-events-plugin.com//7.2.3.1//EN
TZID:Europe/Stockholm
X-WR-TIMEZONE:Europe/Stockholm
BEGIN:VEVENT
UID:159@ssbs.nu
DTSTART;TZID=Europe/Stockholm:20231207T113000
DTEND;TZID=Europe/Stockholm:20231207T130000
DTSTAMP:20231122T122927Z
URL:https://ssbs.nu/moten/7-december-lunchmote-tema-nyhamnen/
SUMMARY:7 december - Lunchmöte tema Nyhamnen
DESCRIPTION:Julinspirerad lunch med föreläsning om Nyhamnen\n\nAffärsstr
 ateg Maja Manner\, AFRY och Asterios Tolikas\, Planarkitekt\, Malmö Stad 
 och Teamsamordnare Nyhamnen berättar om Malmö Stads och andra aktörers 
 utmaningar och möjligheter i utvecklingen av Nyhamnen samt det omtag som 
 man håller på med just nu.\n\nOmrådet benämns som Malmös port mot Eur
 opa och världen och är en enorm satsning inom stadsutveckling. Det plane
 ras för nya öar och broar\, 9000 bostäder och 21000 arbetsplatser. Dett
 a i kombination med utmaningar som buller från hamnverksamhet och höjda 
 havsnivåer. Utmaningarna är många men möjligheterna fler. Under detta 
 föredrag bjuds ni på insikter i arbetet och resan framåt.\n\nVälkommen
  på lunchföreläsning!\n\nTid: 11.30-13.00\n\nPlats: AFRY\, Hallenborgs 
 gata 4\, Malmö\n\nSamling i receptionen från 11.20 då vi behöver åka 
 hiss upp gemensamt. Om vädret tillåter har vi från föreläsningssalen 
 på plan 7 utsikt över just Nyhamnen\n\nPROGRAM\n\n11:20 Samling i recept
 ionen för att ta hiss upp till föreläsningssalen\n11:30 SSBS ordförand
 e hälsar välkomna\n11:35 Affärsstrateg Maja Manner\, Afry och Planarki
 tekt Asterios Tolikas\, Malmö Stad föreläser.\n12:15 Mingel och julins
 pirerad lunch serveras.\n13:00 Mötet avslutas
ATTACH;FMTTYPE=image/jpeg:https://ssbs.nu/wp-content/uploads/2023/10/Bild1
 -Nyhamnen.jpg
END:VEVENT
BEGIN:VTIMEZONE
TZID:Europe/Stockholm
X-LIC-LOCATION:Europe/Stockholm
BEGIN:STANDARD
DTSTART:20231029T020000
TZOFFSETFROM:+0200
TZOFFSETTO:+0100
TZNAME:CET
END:STANDARD
END:VTIMEZONE
END:VCALENDAR