BEGIN:VCALENDAR
VERSION:2.0
PRODID:-//wp-events-plugin.com//7.2.3.1//EN
TZID:Europe/Stockholm
X-WR-TIMEZONE:Europe/Stockholm
BEGIN:VEVENT
UID:110@ssbs.nu
DTSTART;TZID=Europe/Stockholm:20161103T164500
DTEND;TZID=Europe/Stockholm:20161103T164500
DTSTAMP:20200805T144021Z
URL:https://ssbs.nu/moten/gasamiddag-pa-m-e-c-k-tema-hur-bygger-vi-en-god-
 arbetsmiljo/
SUMMARY:Gåsamiddag på M.E.C.K - tema "Hur bygger vi en god arbetsmiljö?"
DESCRIPTION:&nbsp\;\n\nAnmälan och betalning till Gåsamiddag behöver vi
  senast den 27 oktober (förlängt) för att garantera plats och middag.\
 nAnmälan till enbart Mötet välkomnar vi fram till senast den 28 oktober
 .\n\nInbetalning till Gåsamiddag med 400 kr/medlem\, 600 kr/gäst görs 
 till SSBS BANKGIRO 360-6126 senast 27 oktober.
ATTACH;FMTTYPE=image/jpeg:https://ssbs.nu/wp-content/uploads/2020/08/RPC-2
 -640x400-1.jpg
LOCATION:Stora Varvsgatan 6A\, Stora Varvsgatan 6A\, Malmö\, Sverige
GEO:55.612385;12.991506
X-APPLE-STRUCTURED-LOCATION;VALUE=URI;X-ADDRESS=Stora Varvsgatan 6A\, Malm
 ö\, Sverige;X-APPLE-RADIUS=100;X-TITLE=Stora Varvsgatan 6A:geo:55.612385,
 12.991506
END:VEVENT
BEGIN:VTIMEZONE
TZID:Europe/Stockholm
X-LIC-LOCATION:Europe/Stockholm
BEGIN:STANDARD
DTSTART:20161030T020000
TZOFFSETFROM:+0200
TZOFFSETTO:+0100
TZNAME:CET
END:STANDARD
END:VTIMEZONE
END:VCALENDAR